BEGIN:VCALENDAR
VERSION:2.0
PRODID:-//Tukios.com/
BEGIN:VEVENT
UID:ee6d13d6-8c31-40dc-a6a4-ad4fce1430d0@www.mountaincityfh.com
DTSTAMP:20260420T205613Z
DTSTART:20260423T180000Z
DTEND:20260423T190000Z
SUMMARY:Visitation
DESCRIPTION:
URL:https://www.mountaincityfh.com/obituaries/mike-famer
LOCATION:Community Church 167 West East Neatherly Road  Mountain City TN 
	37683
GEO:36.3938903;-81.8507156
END:VEVENT
END:VCALENDAR