BEGIN:VCALENDAR
VERSION:2.0
PRODID:-//Tukios.com/
BEGIN:VEVENT
UID:18cce10e-0da4-4345-ba21-a23687708eb5@www.mountaincityfh.com
DTSTAMP:20260421T190342Z
DTSTART:20260422T180000Z
DTEND:20260422T190000Z
SUMMARY:Funeral Service
DESCRIPTION:
URL:https://www.mountaincityfh.com/obituaries/mack-williams
LOCATION:Mountain City Funeral Home 224 S Church St  Mountain City TN 
	37683
GEO:36.4725536;-81.8052033
END:VEVENT
END:VCALENDAR