BEGIN:VCALENDAR
VERSION:2.0
PRODID:-//Tukios.com/
BEGIN:VEVENT
UID:f934276c-80ce-4778-9e21-a33724d96dec@www.mountaincityfh.com
DTSTAMP:20260421T190556Z
DTSTART:20260422T170000Z
DTEND:20260422T180000Z
SUMMARY:Visitation
DESCRIPTION:
URL:https://www.mountaincityfh.com/obituaries/mack-williams
LOCATION:Mountain City Funeral Home 224 S Church St  Mountain City TN 
	37683
GEO:36.4725536;-81.8052033
END:VEVENT
END:VCALENDAR